BEGIN:VCALENDAR
VERSION:2.0
PRODID:Imitheme.com 
BEGIN:VEVENT
UID:20260421T140228602492242
DTSTAMP;TZID=UTC:2026-04-21 14:02:28
DTSTART;TZID=America/Los_Angeles:20260421T140228
DTEND;TZID=America/Los_Angeles:20260421T140228
SUMMARY:GRANDOPENING SATURDAY @ JINGLES met DJ SENTO & RAOEL NOIJEN
LOCATION:
DESCRIPTION:
URL:https://devriendenvandevesting.nl/eventer/grandopening-jingles-met-dj-sento-raoel-noijen/
END:VEVENT
END:VCALENDAR
