BEGIN:VCALENDAR
VERSION:2.0
PRODID:Imitheme.com 
BEGIN:VEVENT
UID:20260421T1403561737964861
DTSTAMP;TZID=UTC:2026-04-21 14:03:56
DTSTART;TZID=America/Los_Angeles:20260421T140356
DTEND;TZID=America/Los_Angeles:20260421T140356
SUMMARY:GRANDOPENING SUNDAY @ JINGLES met DJ MARCEL POST & NATASCHA
LOCATION:
DESCRIPTION:
URL:https://devriendenvandevesting.nl/eventer/grandopening-sunday-jingles-met-dj-marcel-post-natascha/
END:VEVENT
END:VCALENDAR
