BEGIN:VCALENDAR
VERSION:2.0
PRODID:Imitheme.com 
BEGIN:VEVENT
UID:20260421T1404421244988801
DTSTAMP;TZID=UTC:2026-04-21 14:04:42
DTSTART;TZID=America/Los_Angeles:20260421T140442
DTEND;TZID=America/Los_Angeles:20260421T140442
SUMMARY:GRANDOPENING MONDAY @ JINGLES met DR VYBEZ
LOCATION:
DESCRIPTION:
URL:https://devriendenvandevesting.nl/eventer/grandopening-monday-jingles-met-dr-vybez/
END:VEVENT
END:VCALENDAR
